View In:
ArcGIS JavaScript
ArcGIS Online Map Viewer
ArcGIS Earth
ArcGIS Pro
Service Description: <div style='text-align:Left;'><div><div><p style='margin:0 0 0 0;'><span>The California State Water Resources Control Board is currently in the process of improving the functionality and accessibility of information residing in their Water Quality Control Plans (aka Basin Plans). In order to achieve this, the data (i.e. statewide water quality objectives, beneficial uses, applicable TMDLs, etc.), are being transferred to a standardized digital format and linked to applicable surface water features. This dataset is limited to the beneficial uses data, while the water quality objectives, applicable TMDLs, etc. will be released at a later date. Data formats will include GIS data layers and numerous nonspatial data tables. The GIS layers contain hydrography features derived from a 2012 snapshot of the high-resolution (1:24000 scale) National Hydrography Dataset with added attribution. Nonspatial tables will contain various textual and numeric data from the Regional Basin and State Plans. The extent of the dataset covers the state of California and the non-spatial tables reflect the information and elements from the various plans used up to 2020. The GIS layers and associated attribution will enable the future integration of the various elements of the Basin Plans to ensure that all applicable Basin Plan requirements for a particular waterbody can be determined in a quick and precise manner across different modern mediums. The data are being managed and the project implemented by State and Regional Water Board staff using ESRI's ArcGIS Server and ArcSDE technology.</span></p></div></div></div>
Map Name: California Basin Plan Beneficial Uses
Legend
All Layers and Tables
Dynamic Legend
Dynamic All Layers
Layers:
Tables:
Description:
Service Item Id: 1b9f4712278e4b35ab77dc20e451b979
Copyright Text: California State Water Resources Control Board
Spatial Reference:
102100
(3857)
LatestVCSWkid(0)
Single Fused Map Cache: true
Tile Info:
- Height: 256.0
- Width: 256.0
- DPI: 96.0
-
Levels of Detail: 24
-
Level ID: 1
[ Start Tile, End Tile ]
- Resolution: 78271.5169639999
- Scale: 2.95828763795777E8
-
Level ID: 2
[ Start Tile, End Tile ]
- Resolution: 39135.7584820001
- Scale: 1.47914381897889E8
-
Level ID: 3
[ Start Tile, End Tile ]
- Resolution: 19567.8792409999
- Scale: 7.3957190948944E7
-
Level ID: 4
[ Start Tile, End Tile ]
- Resolution: 9783.93962049996
- Scale: 3.6978595474472E7
-
Level ID: 5
[ Start Tile, End Tile ]
- Resolution: 4891.96981024998
- Scale: 1.8489297737236E7
- Format: PNG
- Compression Quality: 0.0
- Origin: X: -2.0037508342787E7
Y: 2.0037508342787E7
- Spatial Reference: 102100
(3857)
LatestVCSWkid(0)
Storage Info:
- Storage Format: esriMapCacheStorageModeCompactV2
- Packet Size: 128
Initial Extent:
XMin: -1.3507830778999744E7
YMin: 3764799.2003900763
XMax: -1.3053321777800256E7
YMax: 5247227.292909924
Spatial Reference: 102100
(0)
LatestVCSWkid(0)
Full Extent:
XMin: -1.38555483704E7
YMin: 3832601.2635
XMax: -1.27049807448E7
YMax: 5179425.2298
Spatial Reference: 102100
(0)
LatestVCSWkid(0)
Units: esriMeters
Supported Image Format Types: PNG32,PNG24,PNG,JPG,DIB,TIFF,EMF,PS,PDF,GIF,SVG,SVGZ,BMP
Document Info:
Title: Map
Author:
Comments:
Subject:
Category:
Keywords: environment,health,inland waters,oceans,hydrography,surface water,tributary,beneficial use,water quality,quality objective,constituent,pollutant,upstream trace,designation,tributary rule,event,linear referencing,California,CA,North Coast,San Francisco,Central Coast,Los Angeles,Central Valley,Sacramento,Tulare,Lahontan,Colorado,Santa Ana,San Diego
AntialiasingMode: Fast
TextAntialiasingMode: Force
Supports Dynamic Layers: true
Resampling: false
MaxRecordCount: 2000
MaxSelectionCount: 2000
MaxImageHeight: 4096
MaxImageWidth: 4096
Supported Query Formats: JSON, geoJSON, PBF
Supports Query Data Elements: true
Min Scale: 9244648.868618
Max Scale: 18055.954822
Min LOD: 6
Max LOD: 15
Supports Datum Transformation: true
Child Resources:
Info
Dynamic Layer
Supported Operations:
Export Map
Identify
QueryLegends
QueryDomains
Find
Return Updates